BEGIN:VCALENDAR
VERSION:2.0
CALSCALE:GREGORIAN
PRODID:adamgibbons/ics
METHOD:PUBLISH
X-PUBLISHED-TTL:PT1H
BEGIN:VEVENT
UID:119@tfnb.ca
SUMMARY:FnB Parkdale Meal
DTSTAMP:20260419T121010Z
DTSTART:20260419T170000Z
DTEND:20260419T190000Z
URL:https://tfnb.ca/event/fnb-parkdale-meal-10
LOCATION:Parkdale Queen West Community Health Centre - 1229 Queen Street We
	st Toronto\, Ontario M6K 1L2
STATUS:CONFIRMED
CATEGORIES:distro,meal provided,parkdale
END:VEVENT
END:VCALENDAR
