BEGIN:VCALENDAR
VERSION:2.0
CALSCALE:GREGORIAN
PRODID:adamgibbons/ics
METHOD:PUBLISH
X-PUBLISHED-TTL:PT1H
BEGIN:VEVENT
UID:120@tfnb.ca
SUMMARY:Oshawa Picnic Club
DTSTAMP:20260419T121917Z
DTSTART:20260421T220000Z
URL:https://tfnb.ca/event/oshawa-picnic-club-13
LOCATION:Cornerstone - John St. W & Simcoe St. S\, Oshawa\, Ontario
STATUS:CONFIRMED
CATEGORIES:distro,meal provided,oshawa
END:VEVENT
END:VCALENDAR
