BEGIN:VCALENDAR
VERSION:2.0
CALSCALE:GREGORIAN
PRODID:adamgibbons/ics
METHOD:PUBLISH
X-PUBLISHED-TTL:PT1H
BEGIN:VEVENT
UID:117@tfnb.ca
SUMMARY:FnB Leslieville Meal
DTSTAMP:20260419T121416Z
DTSTART:20260426T160000Z
DTEND:20260426T173000Z
URL:https://tfnb.ca/event/fnb-leslieville-meal-6
LOCATION:Matty Eckler Playground - 953 Gerrard St E\, Toronto\, ON M4M 1Z4
STATUS:CONFIRMED
CATEGORIES:distro,leslieville,meal provided
END:VEVENT
END:VCALENDAR
