BEGIN:VCALENDAR
VERSION:2.0
CALSCALE:GREGORIAN
PRODID:adamgibbons/ics
METHOD:PUBLISH
X-PUBLISHED-TTL:PT1H
BEGIN:VEVENT
UID:125@tfnb.ca
SUMMARY:FNB Kensington @Coward Patrol gig
DTSTAMP:20260422T101439Z
DTSTART:20260509T220000Z
DTEND:20260510T030000Z
DESCRIPTION:From instagram:\n\n> COWARD PATROL PRESENTS...\n> \n> AN ALL AG
	ES GRINDCORE GET DOWN\n> \n> FED ASH (Heavy grind\, Binghamton NY)\n> COMM
	ON DECENCY (Fastcore\, Binghamton NY)\n> BLACK IRON PRISON (Drum 'n' vocal
	 insanity\, T.O.)\n> GRIMEND (Local mincers\, first show!)\n> \n> SATURDAY
	\, 9 MAY 2026\n> ST. STEPHEN-IN-THE-FIELDS\n> $15 / PWYC\n> 7:00 PM\n> \n>
	 Flyer by @luuther [https://imginn.com/luuther/]
URL:https://tfnb.ca/event/fnb-kensington-coward-patrol-gig
LOCATION:Church of St. Stephen-in-the-Fields - 103 Bellevue Avenue
STATUS:CONFIRMED
CATEGORIES:kensington market,tabling
X-ALT-DESC;FMTTYPE=text/html:<p>From instagram:</p><blockquote><p><br>COWAR
	D PATROL PRESENTS...<br><br>AN ALL AGES GRINDCORE GET DOWN<br><br>FED ASH 
	(Heavy grind, Binghamton NY)<br>COMMON DECENCY (Fastcore, Binghamton NY)<b
	r>BLACK IRON PRISON (Drum 'n' vocal insanity, T.O.)<br>GRIMEND (Local minc
	ers, first show!)<br><br>SATURDAY, 9 MAY 2026<br>ST. STEPHEN-IN-THE-FIELDS
	<br>$15 / PWYC<br>7:00 PM<br><br>Flyer by <a href="https://imginn.com/luut
	her/" target="_blank">@luuther</a></p></blockquote>
BEGIN:VALARM
ACTION:DISPLAY
DESCRIPTION:FNB Kensington @Coward Patrol gig
TRIGGER:-PT1H
END:VALARM
END:VEVENT
END:VCALENDAR
